{"text_format":"1","workbook":"xlsx","n_sheets":4,"sheets":["Stammdaten","Vorlage","Hilfs1","Hilfs2"],"not_rendered":{"charts":0,"images":0,"macros":1,"external_links":0,"defined_names":96,"comments":2,"pivot_tables":0},"unopened":[],"bounds":{"document_bytes":16777216,"sheet_cells":100000,"rows_first":2000,"rows_last":500,"rows_between":2000,"halvings":0,"cell_chars":16384,"cell_head_chars":4096},"cells_cut":0,"cells_raw":0,"read":"whole","date_system":"1900"}

{"sheet":"Stammdaten","index":0,"n_rows":44,"n_cols":16,"rows_kept":44,"cut":false,"hidden":false,"merged":[[7,13,7,14],[6,13,6,14],[2,11,2,15],[34,1,34,5],[35,1,35,5],[2,4,2,5],[25,1,25,5],[26,1,26,5],[27,1,27,5],[28,1,28,5],[24,1,24,5],[36,1,36,5],[29,1,29,5],[30,1,30,5],[31,1,31,5],[32,1,32,5],[33,1,33,5]]}
[]
[]
["Sollarbeitszeit / Abrechnungsperiode:",null,null,null,"Dezember 2023",null,null,null,null,null,"Arbeitgeber / Firma:  "]
[]
[null,null,null,null,null,null,"Mo","Di","Mi","Do","Fr"]
[{"$f":"\"Arbeitszeit Vormittag \" & TEXT(E3,\"MMMM JJJJ\")","v":"Arbeitszeit Vormittag Dezember 2023"},null,null,null,0,null,{"$f":"azvo","v":0},{"$f":"azvo","v":0},{"$f":"azvo","v":0},{"$f":"azvo","v":0},{"$f":"azvo","v":0}]
[{"$f":"\"Arbeitszeit Nachmittag \" & TEXT(E3,\"MMMM JJJJ\")","v":"Arbeitszeit Nachmittag Dezember 2023"},null,null,null,0,null,{"$f":"azna","v":0},{"$f":"azna","v":0},{"$f":"azna","v":0},{"$f":"azna","v":0},{"$f":"azna","v":0},null,null,"Sollarbeitszeit Monat"]
[{"$f":"\"Tagesarbeitszeit \" & TEXT(E3,\"MMMM JJJJ\")","v":"Tagesarbeitszeit Dezember 2023"},null,null,null,{"$f":"SUM(E6:E7)","v":0},null,{"$f":"SUM(G6:G7)","v":0},{"$f":"SUM(H6:H7)","v":0},{"$f":"SUM(I6:I7)","v":0},{"$f":"SUM(J6:J7)","v":0},{"$f":"SUM(K6:K7)","v":0},null,null,{"$f":"SUM(A15:O15,A22:P22)","v":0}]
[]
[]
[{"$f":"A12","v":"2023-12-01"},"2023-12-02","2023-12-03","2023-12-04","2023-12-05","2023-12-06","2023-12-07","2023-12-08","2023-12-09","2023-12-10","2023-12-11","2023-12-12","2023-12-13","2023-12-14","2023-12-15"]
[{"$f":"DATE(YEAR(E3),MONTH(E3),1)","v":"2023-12-01"},{"$f":"A12+1","v":"2023-12-02"},"2023-12-03","2023-12-04","2023-12-05","2023-12-06","2023-12-07","2023-12-08","2023-12-09","2023-12-10","2023-12-11","2023-12-12","2023-12-13","2023-12-14","2023-12-15"]
[{"$f":"vm(A13)","v":0},"","",0,0,0,0,0,"","",0,0,0,0,0]
[{"$f":"nm(A14)","v":0},"","",0,0,0,0,0,"","",0,0,0,0,0]
[{"$f":"SUM(A13:A14)","v":0},{"$f":"SUM(B13:B14)","v":0},0,0,0,0,0,0,0,0,0,0,0,0,0]
[]
[]
[{"$f":"A19","v":"2023-12-16"},"2023-12-17","2023-12-18","2023-12-19","2023-12-20","2023-12-21","2023-12-22","2023-12-23","2023-12-24","2023-12-25","2023-12-26","2023-12-27","2023-12-28","2023-12-29","2023-12-30","2023-12-31"]
[{"$f":"O12+1","v":"2023-12-16"},{"$f":"A19+1","v":"2023-12-17"},"2023-12-18","2023-12-19","2023-12-20","2023-12-21","2023-12-22","2023-12-23","2023-12-24","2023-12-25","2023-12-26","2023-12-27","2023-12-28",{"$f":"IF(M19<>\"\",IF(MONTH(M19+1)=MONTH(M19),M19+1,\"\"),\"\")","v":"2023-12-29"},{"$f":"IF(N19<>\"\",IF(MONTH(N19+1)=MONTH(N19),N19+1,\"\"),\"\")","v":"2023-12-30"},{"$f":"IF(O19<>\"\",IF(MONTH(O19+1)=MONTH(O19),O19+1,\"\"),\"\")","v":"2023-12-31"}]
[{"$f":"vm(A20)","v":""},"",0,0,0,0,0,"","",0,0,0,0,0,"",""]
[{"$f":"nm(A21)","v":""},"",0,0,0,0,0,"","",0,0,0,0,0,"",""]
[{"$f":"SUM(A20:A21)","v":0},{"$f":"SUM(B20:B21)","v":0},0,0,0,0,0,0,0,0,0,0,0,{"$f":"IF(SUM(N20:N21)>0,SUM(N20:N21),\"\")","v":""},{"$f":"IF(SUM(O20:O21)>0,SUM(O20:O21),\"\")","v":""},{"$f":"IF(SUM(P20:P21)>0,SUM(P20:P21),\"\")","v":""}]
[]
[]
["Nr.","Bezeichnung Arbeits- / Baustelle",null,null,null,null,null,"Anzahl MA"]
[1]
[2]
[3]
[4]
[5]
[6]
[7]
[8]
[9]
[10]
[11]
[12]
[]
["Die Arbeitnehmenden wurden durch den Arbeitgeber über die Ausfallzeiten und die Kontrollpflicht informiert."]
[]
["Der Arbeitgeber bescheinigt hiermit die Korrektheit der Angaben, der eingereichten Stundenrapporte sowie der entsprechenden Abrechnung."]
[]
[]
["Datum: _________________________",null,null,null,"Unterschrift: ____________________________________",null,null,null,null,null,"Firmenstempel: _______________________________________"]

{"sheet":"Vorlage","index":1,"n_rows":116,"n_cols":32,"rows_kept":116,"cut":false,"hidden":true,"merged":[[101,5,101,15],[105,5,105,15],[109,5,109,15],[113,5,113,15],[81,5,81,15],[85,5,85,15],[89,5,89,15],[93,5,93,15],[97,5,97,15],[35,5,35,15],[42,5,42,15],[46,5,46,15],[50,5,50,15],[54,5,54,15],[31,5,31,15],[1,0,1,4],[1,5,1,15],[1,17,1,21],[1,22,1,28],[3,5,3,15],[7,5,7,15],[11,5,11,15],[15,5,15,15],[19,5,19,15],[23,5,23,15],[27,5,27,15],[40,0,40,4],[40,5,40,15],[40,17,40,21],[40,22,40,28],[79,0,79,4],[79,5,79,15],[79,17,79,21],[79,22,79,28],[58,5,58,15],[62,5,62,15],[66,5,66,15],[70,5,70,15],[74,5,74,15]]}
["Rapport über die wetterbedingten Ausfallstunden",null,null,null,null,null,null,null,null,null,null,null,null,null,null,null,null,null,null,null,null,null,null,null,null,null,null,null,null,null,null,"Arbeitslosenversicherung"]
["Arbeitsstelle/Baustelle:",null,null,null,null,null,null,null,null,null,null,null,null,null,null,null,null,"Abrechnungsperiode:",null,null,null,null,{"$f":"MonatsDropdown","v":"Dezember 2023"},null,null,null,null,null,null,null,null,{"$f":"SUM(AF6,AF10,AF14,AF18,AF22,AF26,AF30,AF34,AF38,AF45,AF49,AF53,AF57,AF61,AF65,AF69,AF73,AF77,AF84,AF88,AF92,AF96,AF100,AF104,AF108,AF112,AF116)","v":0}]
[null,null,null,null,null,null,null,null,null,null,null,null,null,null,null,null,null,{"$f":"ArbeitgeberFirma","v":0}]
["Name und Vorname:",null,null,null,null,null,null,null,null,null,null,null,null,null,null,null,null,"Unterschrift:"]
[{"$f":"DATE(YEAR(MonatsDropdown),MONTH(MonatsDropdown),1)","v":"2023-12-01"},{"$f":"A5+1","v":"2023-12-02"},{"$f":"B5+1","v":"2023-12-03"},"2023-12-04","2023-12-05","2023-12-06","2023-12-07","2023-12-08","2023-12-09","2023-12-10","2023-12-11","2023-12-12","2023-12-13","2023-12-14","2023-12-15","2023-12-16","2023-12-17","2023-12-18","2023-12-19","2023-12-20","2023-12-21","2023-12-22","2023-12-23","2023-12-24","2023-12-25","2023-12-26","2023-12-27","2023-12-28",{"$f":"IF(AB5<>\"\",IF(MONTH(AB5+1)=MONTH(AB5),AB5+1,\"\"),\"\")","v":"2023-12-29"},{"$f":"IF(AC5<>\"\",IF(MONTH(AC5+1)=MONTH(AC5),AC5+1,\"\"),\"\")","v":"2023-12-30"},{"$f":"IF(AD5<>\"\",IF(MONTH(AD5+1)=MONTH(AD5),AD5+1,\"\"),\"\")","v":"2023-12-31"},"Total"]
[null,null,null,null,null,null,null,null,null,null,null,null,null,null,null,null,null,null,null,null,null,null,null,null,null,null,null,null,null,null,null,{"$f":"SUM(A6:AE6)","v":0}]
[]
["Name und Vorname:",null,null,null,null,null,null,null,null,null,null,null,null,null,null,null,null,"Unterschrift:"]
[{"$f":"DATE(YEAR(MonatsDropdown),MONTH(MonatsDropdown),1)","v":"2023-12-01"},{"$f":"A9+1","v":"2023-12-02"},{"$f":"B9+1","v":"2023-12-03"},{"$f":"C9+1","v":"2023-12-04"},{"$f":"D9+1","v":"2023-12-05"},{"$f":"E9+1","v":"2023-12-06"},{"$f":"F9+1","v":"2023-12-07"},{"$f":"G9+1","v":"2023-12-08"},{"$f":"H9+1","v":"2023-12-09"},{"$f":"I9+1","v":"2023-12-10"},{"$f":"J9+1","v":"2023-12-11"},{"$f":"K9+1","v":"2023-12-12"},{"$f":"L9+1","v":"2023-12-13"},{"$f":"M9+1","v":"2023-12-14"},{"$f":"N9+1","v":"2023-12-15"},{"$f":"O9+1","v":"2023-12-16"},{"$f":"P9+1","v":"2023-12-17"},{"$f":"Q9+1","v":"2023-12-18"},{"$f":"R9+1","v":"2023-12-19"},{"$f":"S9+1","v":"2023-12-20"},{"$f":"T9+1","v":"2023-12-21"},{"$f":"U9+1","v":"2023-12-22"},{"$f":"V9+1","v":"2023-12-23"},{"$f":"W9+1","v":"2023-12-24"},{"$f":"X9+1","v":"2023-12-25"},{"$f":"Y9+1","v":"2023-12-26"},{"$f":"Z9+1","v":"2023-12-27"},{"$f":"AA9+1","v":"2023-12-28"},{"$f":"IF(AB9<>\"\",IF(MONTH(AB9+1)=MONTH(AB9),AB9+1,\"\"),\"\")","v":"2023-12-29"},{"$f":"IF(AC9<>\"\",IF(MONTH(AC9+1)=MONTH(AC9),AC9+1,\"\"),\"\")","v":"2023-12-30"},{"$f":"IF(AD9<>\"\",IF(MONTH(AD9+1)=MONTH(AD9),AD9+1,\"\"),\"\")","v":"2023-12-31"},"Total"]
[null,null,null,null,null,null,null,null,null,null,null,null,null,null,null,null,null,null,null,null,null,null,null,null,null,null,null,null,null,null,null,{"$f":"SUM(A10:AE10)","v":0}]
[]
["Name und Vorname:",null,null,null,null,null,null,null,null,null,null,null,null,null,null,null,null,"Unterschrift:"]
[{"$f":"DATE(YEAR(MonatsDropdown),MONTH(MonatsDropdown),1)","v":"2023-12-01"},{"$f":"A13+1","v":"2023-12-02"},{"$f":"B13+1","v":"2023-12-03"},"2023-12-04","2023-12-05","2023-12-06","2023-12-07","2023-12-08","2023-12-09","2023-12-10","2023-12-11","2023-12-12","2023-12-13","2023-12-14","2023-12-15","2023-12-16","2023-12-17","2023-12-18","2023-12-19","2023-12-20","2023-12-21","2023-12-22","2023-12-23","2023-12-24","2023-12-25","2023-12-26","2023-12-27","2023-12-28",{"$f":"IF(AB13<>\"\",IF(MONTH(AB13+1)=MONTH(AB13),AB13+1,\"\"),\"\")","v":"2023-12-29"},{"$f":"IF(AC13<>\"\",IF(MONTH(AC13+1)=MONTH(AC13),AC13+1,\"\"),\"\")","v":"2023-12-30"},{"$f":"IF(AD13<>\"\",IF(MONTH(AD13+1)=MONTH(AD13),AD13+1,\"\"),\"\")","v":"2023-12-31"},"Total"]
[null,null,null,null,null,null,null,null,null,null,null,null,null,null,null,null,null,null,null,null,null,null,null,null,null,null,null,null,null,null,null,{"$f":"SUM(A14:AE14)","v":0}]
[]
["Name und Vorname:",null,null,null,null,null,null,null,null,null,null,null,null,null,null,null,null,"Unterschrift:"]
[{"$f":"DATE(YEAR(MonatsDropdown),MONTH(MonatsDropdown),1)","v":"2023-12-01"},{"$f":"A17+1","v":"2023-12-02"},{"$f":"B17+1","v":"2023-12-03"},"2023-12-04","2023-12-05","2023-12-06","2023-12-07","2023-12-08","2023-12-09","2023-12-10","2023-12-11","2023-12-12","2023-12-13","2023-12-14","2023-12-15","2023-12-16","2023-12-17","2023-12-18","2023-12-19","2023-12-20","2023-12-21","2023-12-22","2023-12-23","2023-12-24","2023-12-25","2023-12-26","2023-12-27","2023-12-28",{"$f":"IF(AB17<>\"\",IF(MONTH(AB17+1)=MONTH(AB17),AB17+1,\"\"),\"\")","v":"2023-12-29"},{"$f":"IF(AC17<>\"\",IF(MONTH(AC17+1)=MONTH(AC17),AC17+1,\"\"),\"\")","v":"2023-12-30"},{"$f":"IF(AD17<>\"\",IF(MONTH(AD17+1)=MONTH(AD17),AD17+1,\"\"),\"\")","v":"2023-12-31"},"Total"]
[null,null,null,null,null,null,null,null,null,null,null,null,null,null,null,null,null,null,null,null,null,null,null,null,null,null,null,null,null,null,null,{"$f":"SUM(A18:AE18)","v":0}]
[]
["Name und Vorname:",null,null,null,null,null,null,null,null,null,null,null,null,null,null,null,null,"Unterschrift:"]
[{"$f":"DATE(YEAR(MonatsDropdown),MONTH(MonatsDropdown),1)","v":"2023-12-01"},{"$f":"A21+1","v":"2023-12-02"},{"$f":"B21+1","v":"2023-12-03"},"2023-12-04","2023-12-05","2023-12-06","2023-12-07","2023-12-08","2023-12-09","2023-12-10","2023-12-11","2023-12-12","2023-12-13","2023-12-14","2023-12-15","2023-12-16","2023-12-17","2023-12-18","2023-12-19","2023-12-20","2023-12-21","2023-12-22","2023-12-23","2023-12-24","2023-12-25","2023-12-26","2023-12-27","2023-12-28",{"$f":"IF(AB21<>\"\",IF(MONTH(AB21+1)=MONTH(AB21),AB21+1,\"\"),\"\")","v":"2023-12-29"},{"$f":"IF(AC21<>\"\",IF(MONTH(AC21+1)=MONTH(AC21),AC21+1,\"\"),\"\")","v":"2023-12-30"},{"$f":"IF(AD21<>\"\",IF(MONTH(AD21+1)=MONTH(AD21),AD21+1,\"\"),\"\")","v":"2023-12-31"},"Total"]
[null,null,null,null,null,null,null,null,null,null,null,null,null,null,null,null,null,null,null,null,null,null,null,null,null,null,null,null,null,null,null,{"$f":"SUM(A22:AE22)","v":0}]
[]
["Name und Vorname:",null,null,null,null,null,null,null,null,null,null,null,null,null,null,null,null,"Unterschrift:"]
[{"$f":"DATE(YEAR(MonatsDropdown),MONTH(MonatsDropdown),1)","v":"2023-12-01"},{"$f":"A25+1","v":"2023-12-02"},{"$f":"B25+1","v":"2023-12-03"},"2023-12-04","2023-12-05","2023-12-06","2023-12-07","2023-12-08","2023-12-09","2023-12-10","2023-12-11","2023-12-12","2023-12-13","2023-12-14","2023-12-15","2023-12-16","2023-12-17","2023-12-18","2023-12-19","2023-12-20","2023-12-21","2023-12-22","2023-12-23","2023-12-24","2023-12-25","2023-12-26","2023-12-27","2023-12-28",{"$f":"IF(AB25<>\"\",IF(MONTH(AB25+1)=MONTH(AB25),AB25+1,\"\"),\"\")","v":"2023-12-29"},{"$f":"IF(AC25<>\"\",IF(MONTH(AC25+1)=MONTH(AC25),AC25+1,\"\"),\"\")","v":"2023-12-30"},{"$f":"IF(AD25<>\"\",IF(MONTH(AD25+1)=MONTH(AD25),AD25+1,\"\"),\"\")","v":"2023-12-31"},"Total"]
[null,null,null,null,null,null,null,null,null,null,null,null,null,null,null,null,null,null,null,null,null,null,null,null,null,null,null,null,null,null,null,{"$f":"SUM(A26:AE26)","v":0}]
[]
["Name und Vorname:",null,null,null,null,null,null,null,null,null,null,null,null,null,null,null,null,"Unterschrift:"]
[{"$f":"DATE(YEAR(MonatsDropdown),MONTH(MonatsDropdown),1)","v":"2023-12-01"},{"$f":"A29+1","v":"2023-12-02"},{"$f":"B29+1","v":"2023-12-03"},"2023-12-04","2023-12-05","2023-12-06","2023-12-07","2023-12-08","2023-12-09","2023-12-10","2023-12-11","2023-12-12","2023-12-13","2023-12-14","2023-12-15","2023-12-16","2023-12-17","2023-12-18","2023-12-19","2023-12-20","2023-12-21","2023-12-22","2023-12-23","2023-12-24","2023-12-25","2023-12-26","2023-12-27","2023-12-28",{"$f":"IF(AB29<>\"\",IF(MONTH(AB29+1)=MONTH(AB29),AB29+1,\"\"),\"\")","v":"2023-12-29"},{"$f":"IF(AC29<>\"\",IF(MONTH(AC29+1)=MONTH(AC29),AC29+1,\"\"),\"\")","v":"2023-12-30"},{"$f":"IF(AD29<>\"\",IF(MONTH(AD29+1)=MONTH(AD29),AD29+1,\"\"),\"\")","v":"2023-12-31"},"Total"]
[null,null,null,null,null,null,null,null,null,null,null,null,null,null,null,null,null,null,null,null,null,null,null,null,null,null,null,null,null,null,null,{"$f":"SUM(A30:AE30)","v":0}]
[]
["Name und Vorname:",null,null,null,null,null,null,null,null,null,null,null,null,null,null,null,null,"Unterschrift:"]
[{"$f":"DATE(YEAR(MonatsDropdown),MONTH(MonatsDropdown),1)","v":"2023-12-01"},{"$f":"A33+1","v":"2023-12-02"},{"$f":"B33+1","v":"2023-12-03"},"2023-12-04","2023-12-05","2023-12-06","2023-12-07","2023-12-08","2023-12-09","2023-12-10","2023-12-11","2023-12-12","2023-12-13","2023-12-14","2023-12-15","2023-12-16","2023-12-17","2023-12-18","2023-12-19","2023-12-20","2023-12-21","2023-12-22","2023-12-23","2023-12-24","2023-12-25","2023-12-26","2023-12-27","2023-12-28",{"$f":"IF(AB33<>\"\",IF(MONTH(AB33+1)=MONTH(AB33),AB33+1,\"\"),\"\")","v":"2023-12-29"},{"$f":"IF(AC33<>\"\",IF(MONTH(AC33+1)=MONTH(AC33),AC33+1,\"\"),\"\")","v":"2023-12-30"},{"$f":"IF(AD33<>\"\",IF(MONTH(AD33+1)=MONTH(AD33),AD33+1,\"\"),\"\")","v":"2023-12-31"},"Total"]
[null,null,null,null,null,null,null,null,null,null,null,null,null,null,null,null,null,null,null,null,null,null,null,null,null,null,null,null,null,null,null,{"$f":"SUM(A34:AE34)","v":0}]
[]
["Name und Vorname:",null,null,null,null,null,null,null,null,null,null,null,null,null,null,null,null,"Unterschrift:"]
[{"$f":"DATE(YEAR(MonatsDropdown),MONTH(MonatsDropdown),1)","v":"2023-12-01"},{"$f":"A37+1","v":"2023-12-02"},{"$f":"B37+1","v":"2023-12-03"},{"$f":"C37+1","v":"2023-12-04"},{"$f":"D37+1","v":"2023-12-05"},{"$f":"E37+1","v":"2023-12-06"},{"$f":"F37+1","v":"2023-12-07"},{"$f":"G37+1","v":"2023-12-08"},{"$f":"H37+1","v":"2023-12-09"},{"$f":"I37+1","v":"2023-12-10"},{"$f":"J37+1","v":"2023-12-11"},{"$f":"K37+1","v":"2023-12-12"},{"$f":"L37+1","v":"2023-12-13"},{"$f":"M37+1","v":"2023-12-14"},{"$f":"N37+1","v":"2023-12-15"},{"$f":"O37+1","v":"2023-12-16"},{"$f":"P37+1","v":"2023-12-17"},{"$f":"Q37+1","v":"2023-12-18"},{"$f":"R37+1","v":"2023-12-19"},{"$f":"S37+1","v":"2023-12-20"},{"$f":"T37+1","v":"2023-12-21"},{"$f":"U37+1","v":"2023-12-22"},{"$f":"V37+1","v":"2023-12-23"},{"$f":"W37+1","v":"2023-12-24"},{"$f":"X37+1","v":"2023-12-25"},{"$f":"Y37+1","v":"2023-12-26"},{"$f":"Z37+1","v":"2023-12-27"},{"$f":"AA37+1","v":"2023-12-28"},{"$f":"IF(AB37<>\"\",IF(MONTH(AB37+1)=MONTH(AB37),AB37+1,\"\"),\"\")","v":"2023-12-29"},{"$f":"IF(AC37<>\"\",IF(MONTH(AC37+1)=MONTH(AC37),AC37+1,\"\"),\"\")","v":"2023-12-30"},{"$f":"IF(AD37<>\"\",IF(MONTH(AD37+1)=MONTH(AD37),AD37+1,\"\"),\"\")","v":"2023-12-31"},"Total"]
[null,null,null,null,null,null,null,null,null,null,null,null,null,null,null,null,null,null,null,null,null,null,null,null,null,null,null,null,null,null,null,{"$f":"SUM(A38:AE38)","v":0}]
[]
[{"$f":"A1","v":"Rapport über die wetterbedingten Ausfallstunden"},null,null,null,null,null,null,null,null,null,null,null,null,null,null,null,null,null,null,null,null,null,null,null,null,null,null,null,null,null,null,{"$f":"AF1","v":"Arbeitslosenversicherung"}]
["Arbeitsstelle/Baustelle:",null,null,null,null,{"$f":"BaustelleTitel","v":0},null,null,null,null,null,null,null,null,null,null,null,"Abrechnungsperiode:",null,null,null,null,{"$f":"MonatsDropdown","v":"Dezember 2023"}]
[]
["Name und Vorname:",null,null,null,null,null,null,null,null,null,null,null,null,null,null,null,null,"Unterschrift:"]
[{"$f":"DATE(YEAR(MonatsDropdown),MONTH(MonatsDropdown),1)","v":"2023-12-01"},{"$f":"A44+1","v":"2023-12-02"},{"$f":"B44+1","v":"2023-12-03"},{"$f":"C44+1","v":"2023-12-04"},{"$f":"D44+1","v":"2023-12-05"},{"$f":"E44+1","v":"2023-12-06"},{"$f":"F44+1","v":"2023-12-07"},{"$f":"G44+1","v":"2023-12-08"},{"$f":"H44+1","v":"2023-12-09"},{"$f":"I44+1","v":"2023-12-10"},{"$f":"J44+1","v":"2023-12-11"},{"$f":"K44+1","v":"2023-12-12"},{"$f":"L44+1","v":"2023-12-13"},{"$f":"M44+1","v":"2023-12-14"},{"$f":"N44+1","v":"2023-12-15"},{"$f":"O44+1","v":"2023-12-16"},{"$f":"P44+1","v":"2023-12-17"},{"$f":"Q44+1","v":"2023-12-18"},{"$f":"R44+1","v":"2023-12-19"},{"$f":"S44+1","v":"2023-12-20"},{"$f":"T44+1","v":"2023-12-21"},{"$f":"U44+1","v":"2023-12-22"},{"$f":"V44+1","v":"2023-12-23"},{"$f":"W44+1","v":"2023-12-24"},{"$f":"X44+1","v":"2023-12-25"},{"$f":"Y44+1","v":"2023-12-26"},{"$f":"Z44+1","v":"2023-12-27"},{"$f":"AA44+1","v":"2023-12-28"},{"$f":"IF(AB44<>\"\",IF(MONTH(AB44+1)=MONTH(AB44),AB44+1,\"\"),\"\")","v":"2023-12-29"},{"$f":"IF(AC44<>\"\",IF(MONTH(AC44+1)=MONTH(AC44),AC44+1,\"\"),\"\")","v":"2023-12-30"},{"$f":"IF(AD44<>\"\",IF(MONTH(AD44+1)=MONTH(AD44),AD44+1,\"\"),\"\")","v":"2023-12-31"},"Total"]
[null,null,null,null,null,null,null,null,null,null,null,null,null,null,null,null,null,null,null,null,null,null,null,null,null,null,null,null,null,null,null,{"$f":"SUM(A45:AE45)","v":0}]
[]
["Name und Vorname:",null,null,null,null,null,null,null,null,null,null,null,null,null,null,null,null,"Unterschrift:"]
[{"$f":"DATE(YEAR(MonatsDropdown),MONTH(MonatsDropdown),1)","v":"2023-12-01"},{"$f":"A48+1","v":"2023-12-02"},{"$f":"B48+1","v":"2023-12-03"},{"$f":"C48+1","v":"2023-12-04"},{"$f":"D48+1","v":"2023-12-05"},{"$f":"E48+1","v":"2023-12-06"},{"$f":"F48+1","v":"2023-12-07"},{"$f":"G48+1","v":"2023-12-08"},{"$f":"H48+1","v":"2023-12-09"},{"$f":"I48+1","v":"2023-12-10"},{"$f":"J48+1","v":"2023-12-11"},{"$f":"K48+1","v":"2023-12-12"},{"$f":"L48+1","v":"2023-12-13"},{"$f":"M48+1","v":"2023-12-14"},{"$f":"N48+1","v":"2023-12-15"},{"$f":"O48+1","v":"2023-12-16"},{"$f":"P48+1","v":"2023-12-17"},{"$f":"Q48+1","v":"2023-12-18"},{"$f":"R48+1","v":"2023-12-19"},{"$f":"S48+1","v":"2023-12-20"},{"$f":"T48+1","v":"2023-12-21"},{"$f":"U48+1","v":"2023-12-22"},{"$f":"V48+1","v":"2023-12-23"},{"$f":"W48+1","v":"2023-12-24"},{"$f":"X48+1","v":"2023-12-25"},{"$f":"Y48+1","v":"2023-12-26"},{"$f":"Z48+1","v":"2023-12-27"},{"$f":"AA48+1","v":"2023-12-28"},{"$f":"IF(AB48<>\"\",IF(MONTH(AB48+1)=MONTH(AB48),AB48+1,\"\"),\"\")","v":"2023-12-29"},{"$f":"IF(AC48<>\"\",IF(MONTH(AC48+1)=MONTH(AC48),AC48+1,\"\"),\"\")","v":"2023-12-30"},{"$f":"IF(AD48<>\"\",IF(MONTH(AD48+1)=MONTH(AD48),AD48+1,\"\"),\"\")","v":"2023-12-31"},"Total"]
[null,null,null,null,null,null,null,null,null,null,null,null,null,null,null,null,null,null,null,null,null,null,null,null,null,null,null,null,null,null,null,{"$f":"SUM(A49:AE49)","v":0}]
[]
["Name und Vorname:",null,null,null,null,null,null,null,null,null,null,null,null,null,null,null,null,"Unterschrift:"]
[{"$f":"DATE(YEAR(MonatsDropdown),MONTH(MonatsDropdown),1)","v":"2023-12-01"},{"$f":"A52+1","v":"2023-12-02"},{"$f":"B52+1","v":"2023-12-03"},{"$f":"C52+1","v":"2023-12-04"},{"$f":"D52+1","v":"2023-12-05"},{"$f":"E52+1","v":"2023-12-06"},{"$f":"F52+1","v":"2023-12-07"},{"$f":"G52+1","v":"2023-12-08"},{"$f":"H52+1","v":"2023-12-09"},{"$f":"I52+1","v":"2023-12-10"},{"$f":"J52+1","v":"2023-12-11"},{"$f":"K52+1","v":"2023-12-12"},{"$f":"L52+1","v":"2023-12-13"},{"$f":"M52+1","v":"2023-12-14"},{"$f":"N52+1","v":"2023-12-15"},{"$f":"O52+1","v":"2023-12-16"},{"$f":"P52+1","v":"2023-12-17"},{"$f":"Q52+1","v":"2023-12-18"},{"$f":"R52+1","v":"2023-12-19"},{"$f":"S52+1","v":"2023-12-20"},{"$f":"T52+1","v":"2023-12-21"},{"$f":"U52+1","v":"2023-12-22"},{"$f":"V52+1","v":"2023-12-23"},{"$f":"W52+1","v":"2023-12-24"},{"$f":"X52+1","v":"2023-12-25"},{"$f":"Y52+1","v":"2023-12-26"},{"$f":"Z52+1","v":"2023-12-27"},{"$f":"AA52+1","v":"2023-12-28"},{"$f":"IF(AB52<>\"\",IF(MONTH(AB52+1)=MONTH(AB52),AB52+1,\"\"),\"\")","v":"2023-12-29"},{"$f":"IF(AC52<>\"\",IF(MONTH(AC52+1)=MONTH(AC52),AC52+1,\"\"),\"\")","v":"2023-12-30"},{"$f":"IF(AD52<>\"\",IF(MONTH(AD52+1)=MONTH(AD52),AD52+1,\"\"),\"\")","v":"2023-12-31"},"Total"]
[null,null,null,null,null,null,null,null,null,null,null,null,null,null,null,null,null,null,null,null,null,null,null,null,null,null,null,null,null,null,null,{"$f":"SUM(A53:AE53)","v":0}]
[]
["Name und Vorname:",null,null,null,null,null,null,null,null,null,null,null,null,null,null,null,null,"Unterschrift:"]
[{"$f":"DATE(YEAR(MonatsDropdown),MONTH(MonatsDropdown),1)","v":"2023-12-01"},{"$f":"A56+1","v":"2023-12-02"},{"$f":"B56+1","v":"2023-12-03"},{"$f":"C56+1","v":"2023-12-04"},{"$f":"D56+1","v":"2023-12-05"},{"$f":"E56+1","v":"2023-12-06"},{"$f":"F56+1","v":"2023-12-07"},{"$f":"G56+1","v":"2023-12-08"},{"$f":"H56+1","v":"2023-12-09"},{"$f":"I56+1","v":"2023-12-10"},{"$f":"J56+1","v":"2023-12-11"},{"$f":"K56+1","v":"2023-12-12"},{"$f":"L56+1","v":"2023-12-13"},{"$f":"M56+1","v":"2023-12-14"},{"$f":"N56+1","v":"2023-12-15"},{"$f":"O56+1","v":"2023-12-16"},{"$f":"P56+1","v":"2023-12-17"},{"$f":"Q56+1","v":"2023-12-18"},{"$f":"R56+1","v":"2023-12-19"},{"$f":"S56+1","v":"2023-12-20"},{"$f":"T56+1","v":"2023-12-21"},{"$f":"U56+1","v":"2023-12-22"},{"$f":"V56+1","v":"2023-12-23"},{"$f":"W56+1","v":"2023-12-24"},{"$f":"X56+1","v":"2023-12-25"},{"$f":"Y56+1","v":"2023-12-26"},{"$f":"Z56+1","v":"2023-12-27"},{"$f":"AA56+1","v":"2023-12-28"},{"$f":"IF(AB56<>\"\",IF(MONTH(AB56+1)=MONTH(AB56),AB56+1,\"\"),\"\")","v":"2023-12-29"},{"$f":"IF(AC56<>\"\",IF(MONTH(AC56+1)=MONTH(AC56),AC56+1,\"\"),\"\")","v":"2023-12-30"},{"$f":"IF(AD56<>\"\",IF(MONTH(AD56+1)=MONTH(AD56),AD56+1,\"\"),\"\")","v":"2023-12-31"},"Total"]
[null,null,null,null,null,null,null,null,null,null,null,null,null,null,null,null,null,null,null,null,null,null,null,null,null,null,null,null,null,null,null,{"$f":"SUM(A57:AE57)","v":0}]
[]
["Name und Vorname:",null,null,null,null,null,null,null,null,null,null,null,null,null,null,null,null,"Unterschrift:"]
[{"$f":"DATE(YEAR(MonatsDropdown),MONTH(MonatsDropdown),1)","v":"2023-12-01"},{"$f":"A60+1","v":"2023-12-02"},{"$f":"B60+1","v":"2023-12-03"},{"$f":"C60+1","v":"2023-12-04"},{"$f":"D60+1","v":"2023-12-05"},{"$f":"E60+1","v":"2023-12-06"},{"$f":"F60+1","v":"2023-12-07"},{"$f":"G60+1","v":"2023-12-08"},{"$f":"H60+1","v":"2023-12-09"},{"$f":"I60+1","v":"2023-12-10"},{"$f":"J60+1","v":"2023-12-11"},{"$f":"K60+1","v":"2023-12-12"},{"$f":"L60+1","v":"2023-12-13"},{"$f":"M60+1","v":"2023-12-14"},{"$f":"N60+1","v":"2023-12-15"},{"$f":"O60+1","v":"2023-12-16"},{"$f":"P60+1","v":"2023-12-17"},{"$f":"Q60+1","v":"2023-12-18"},{"$f":"R60+1","v":"2023-12-19"},{"$f":"S60+1","v":"2023-12-20"},{"$f":"T60+1","v":"2023-12-21"},{"$f":"U60+1","v":"2023-12-22"},{"$f":"V60+1","v":"2023-12-23"},{"$f":"W60+1","v":"2023-12-24"},{"$f":"X60+1","v":"2023-12-25"},{"$f":"Y60+1","v":"2023-12-26"},{"$f":"Z60+1","v":"2023-12-27"},{"$f":"AA60+1","v":"2023-12-28"},{"$f":"IF(AB60<>\"\",IF(MONTH(AB60+1)=MONTH(AB60),AB60+1,\"\"),\"\")","v":"2023-12-29"},{"$f":"IF(AC60<>\"\",IF(MONTH(AC60+1)=MONTH(AC60),AC60+1,\"\"),\"\")","v":"2023-12-30"},{"$f":"IF(AD60<>\"\",IF(MONTH(AD60+1)=MONTH(AD60),AD60+1,\"\"),\"\")","v":"2023-12-31"},"Total"]
[null,null,null,null,null,null,null,null,null,null,null,null,null,null,null,null,null,null,null,null,null,null,null,null,null,null,null,null,null,null,null,{"$f":"SUM(A61:AE61)","v":0}]
[]
["Name und Vorname:",null,null,null,null,null,null,null,null,null,null,null,null,null,null,null,null,"Unterschrift:"]
[{"$f":"DATE(YEAR(MonatsDropdown),MONTH(MonatsDropdown),1)","v":"2023-12-01"},{"$f":"A64+1","v":"2023-12-02"},{"$f":"B64+1","v":"2023-12-03"},{"$f":"C64+1","v":"2023-12-04"},{"$f":"D64+1","v":"2023-12-05"},{"$f":"E64+1","v":"2023-12-06"},{"$f":"F64+1","v":"2023-12-07"},{"$f":"G64+1","v":"2023-12-08"},{"$f":"H64+1","v":"2023-12-09"},{"$f":"I64+1","v":"2023-12-10"},{"$f":"J64+1","v":"2023-12-11"},{"$f":"K64+1","v":"2023-12-12"},{"$f":"L64+1","v":"2023-12-13"},{"$f":"M64+1","v":"2023-12-14"},{"$f":"N64+1","v":"2023-12-15"},{"$f":"O64+1","v":"2023-12-16"},{"$f":"P64+1","v":"2023-12-17"},{"$f":"Q64+1","v":"2023-12-18"},{"$f":"R64+1","v":"2023-12-19"},{"$f":"S64+1","v":"2023-12-20"},{"$f":"T64+1","v":"2023-12-21"},{"$f":"U64+1","v":"2023-12-22"},{"$f":"V64+1","v":"2023-12-23"},{"$f":"W64+1","v":"2023-12-24"},{"$f":"X64+1","v":"2023-12-25"},{"$f":"Y64+1","v":"2023-12-26"},{"$f":"Z64+1","v":"2023-12-27"},{"$f":"AA64+1","v":"2023-12-28"},{"$f":"IF(AB64<>\"\",IF(MONTH(AB64+1)=MONTH(AB64),AB64+1,\"\"),\"\")","v":"2023-12-29"},{"$f":"IF(AC64<>\"\",IF(MONTH(AC64+1)=MONTH(AC64),AC64+1,\"\"),\"\")","v":"2023-12-30"},{"$f":"IF(AD64<>\"\",IF(MONTH(AD64+1)=MONTH(AD64),AD64+1,\"\"),\"\")","v":"2023-12-31"},"Total"]
[null,null,null,null,null,null,null,null,null,null,null,null,null,null,null,null,null,null,null,null,null,null,null,null,null,null,null,null,null,null,null,{"$f":"SUM(A65:AE65)","v":0}]
[]
["Name und Vorname:",null,null,null,null,null,null,null,null,null,null,null,null,null,null,null,null,"Unterschrift:"]
[{"$f":"DATE(YEAR(MonatsDropdown),MONTH(MonatsDropdown),1)","v":"2023-12-01"},{"$f":"A68+1","v":"2023-12-02"},{"$f":"B68+1","v":"2023-12-03"},{"$f":"C68+1","v":"2023-12-04"},{"$f":"D68+1","v":"2023-12-05"},{"$f":"E68+1","v":"2023-12-06"},{"$f":"F68+1","v":"2023-12-07"},{"$f":"G68+1","v":"2023-12-08"},{"$f":"H68+1","v":"2023-12-09"},{"$f":"I68+1","v":"2023-12-10"},{"$f":"J68+1","v":"2023-12-11"},{"$f":"K68+1","v":"2023-12-12"},{"$f":"L68+1","v":"2023-12-13"},{"$f":"M68+1","v":"2023-12-14"},{"$f":"N68+1","v":"2023-12-15"},{"$f":"O68+1","v":"2023-12-16"},{"$f":"P68+1","v":"2023-12-17"},{"$f":"Q68+1","v":"2023-12-18"},{"$f":"R68+1","v":"2023-12-19"},{"$f":"S68+1","v":"2023-12-20"},{"$f":"T68+1","v":"2023-12-21"},{"$f":"U68+1","v":"2023-12-22"},{"$f":"V68+1","v":"2023-12-23"},{"$f":"W68+1","v":"2023-12-24"},{"$f":"X68+1","v":"2023-12-25"},{"$f":"Y68+1","v":"2023-12-26"},{"$f":"Z68+1","v":"2023-12-27"},{"$f":"AA68+1","v":"2023-12-28"},{"$f":"IF(AB68<>\"\",IF(MONTH(AB68+1)=MONTH(AB68),AB68+1,\"\"),\"\")","v":"2023-12-29"},{"$f":"IF(AC68<>\"\",IF(MONTH(AC68+1)=MONTH(AC68),AC68+1,\"\"),\"\")","v":"2023-12-30"},{"$f":"IF(AD68<>\"\",IF(MONTH(AD68+1)=MONTH(AD68),AD68+1,\"\"),\"\")","v":"2023-12-31"},"Total"]
[null,null,null,null,null,null,null,null,null,null,null,null,null,null,null,null,null,null,null,null,null,null,null,null,null,null,null,null,null,null,null,{"$f":"SUM(A69:AE69)","v":0}]
[]
["Name und Vorname:",null,null,null,null,null,null,null,null,null,null,null,null,null,null,null,null,"Unterschrift:"]
[{"$f":"DATE(YEAR(MonatsDropdown),MONTH(MonatsDropdown),1)","v":"2023-12-01"},{"$f":"A72+1","v":"2023-12-02"},{"$f":"B72+1","v":"2023-12-03"},{"$f":"C72+1","v":"2023-12-04"},{"$f":"D72+1","v":"2023-12-05"},{"$f":"E72+1","v":"2023-12-06"},{"$f":"F72+1","v":"2023-12-07"},{"$f":"G72+1","v":"2023-12-08"},{"$f":"H72+1","v":"2023-12-09"},{"$f":"I72+1","v":"2023-12-10"},{"$f":"J72+1","v":"2023-12-11"},{"$f":"K72+1","v":"2023-12-12"},{"$f":"L72+1","v":"2023-12-13"},{"$f":"M72+1","v":"2023-12-14"},{"$f":"N72+1","v":"2023-12-15"},{"$f":"O72+1","v":"2023-12-16"},{"$f":"P72+1","v":"2023-12-17"},{"$f":"Q72+1","v":"2023-12-18"},{"$f":"R72+1","v":"2023-12-19"},{"$f":"S72+1","v":"2023-12-20"},{"$f":"T72+1","v":"2023-12-21"},{"$f":"U72+1","v":"2023-12-22"},{"$f":"V72+1","v":"2023-12-23"},{"$f":"W72+1","v":"2023-12-24"},{"$f":"X72+1","v":"2023-12-25"},{"$f":"Y72+1","v":"2023-12-26"},{"$f":"Z72+1","v":"2023-12-27"},{"$f":"AA72+1","v":"2023-12-28"},{"$f":"IF(AB72<>\"\",IF(MONTH(AB72+1)=MONTH(AB72),AB72+1,\"\"),\"\")","v":"2023-12-29"},{"$f":"IF(AC72<>\"\",IF(MONTH(AC72+1)=MONTH(AC72),AC72+1,\"\"),\"\")","v":"2023-12-30"},{"$f":"IF(AD72<>\"\",IF(MONTH(AD72+1)=MONTH(AD72),AD72+1,\"\"),\"\")","v":"2023-12-31"},"Total"]
[null,null,null,null,null,null,null,null,null,null,null,null,null,null,null,null,null,null,null,null,null,null,null,null,null,null,null,null,null,null,null,{"$f":"SUM(A73:AE73)","v":0}]
[]
["Name und Vorname:",null,null,null,null,null,null,null,null,null,null,null,null,null,null,null,null,"Unterschrift:"]
[{"$f":"DATE(YEAR(MonatsDropdown),MONTH(MonatsDropdown),1)","v":"2023-12-01"},{"$f":"A76+1","v":"2023-12-02"},{"$f":"B76+1","v":"2023-12-03"},{"$f":"C76+1","v":"2023-12-04"},{"$f":"D76+1","v":"2023-12-05"},{"$f":"E76+1","v":"2023-12-06"},{"$f":"F76+1","v":"2023-12-07"},{"$f":"G76+1","v":"2023-12-08"},{"$f":"H76+1","v":"2023-12-09"},{"$f":"I76+1","v":"2023-12-10"},{"$f":"J76+1","v":"2023-12-11"},{"$f":"K76+1","v":"2023-12-12"},{"$f":"L76+1","v":"2023-12-13"},{"$f":"M76+1","v":"2023-12-14"},{"$f":"N76+1","v":"2023-12-15"},{"$f":"O76+1","v":"2023-12-16"},{"$f":"P76+1","v":"2023-12-17"},{"$f":"Q76+1","v":"2023-12-18"},{"$f":"R76+1","v":"2023-12-19"},{"$f":"S76+1","v":"2023-12-20"},{"$f":"T76+1","v":"2023-12-21"},{"$f":"U76+1","v":"2023-12-22"},{"$f":"V76+1","v":"2023-12-23"},{"$f":"W76+1","v":"2023-12-24"},{"$f":"X76+1","v":"2023-12-25"},{"$f":"Y76+1","v":"2023-12-26"},{"$f":"Z76+1","v":"2023-12-27"},{"$f":"AA76+1","v":"2023-12-28"},{"$f":"IF(AB76<>\"\",IF(MONTH(AB76+1)=MONTH(AB76),AB76+1,\"\"),\"\")","v":"2023-12-29"},{"$f":"IF(AC76<>\"\",IF(MONTH(AC76+1)=MONTH(AC76),AC76+1,\"\"),\"\")","v":"2023-12-30"},{"$f":"IF(AD76<>\"\",IF(MONTH(AD76+1)=MONTH(AD76),AD76+1,\"\"),\"\")","v":"2023-12-31"},"Total"]
[null,null,null,null,null,null,null,null,null,null,null,null,null,null,null,null,null,null,null,null,null,null,null,null,null,null,null,null,null,null,null,{"$f":"SUM(A77:AE77)","v":0}]
[]
[{"$f":"A1","v":"Rapport über die wetterbedingten Ausfallstunden"},null,null,null,null,null,null,null,null,null,null,null,null,null,null,null,null,null,null,null,null,null,null,null,null,null,null,null,null,null,null,{"$f":"AF1","v":"Arbeitslosenversicherung"}]
["Arbeitsstelle/Baustelle:",null,null,null,null,{"$f":"BaustelleTitel","v":0},null,null,null,null,null,null,null,null,null,null,null,"Abrechnungsperiode:",null,null,null,null,{"$f":"MonatsDropdown","v":"Dezember 2023"}]
[]
["Name und Vorname:",null,null,null,null,null,null,null,null,null,null,null,null,null,null,null,null,"Unterschrift:"]
[{"$f":"DATE(YEAR(MonatsDropdown),MONTH(MonatsDropdown),1)","v":"2023-12-01"},{"$f":"A83+1","v":"2023-12-02"},{"$f":"B83+1","v":"2023-12-03"},{"$f":"C83+1","v":"2023-12-04"},{"$f":"D83+1","v":"2023-12-05"},{"$f":"E83+1","v":"2023-12-06"},{"$f":"F83+1","v":"2023-12-07"},{"$f":"G83+1","v":"2023-12-08"},{"$f":"H83+1","v":"2023-12-09"},{"$f":"I83+1","v":"2023-12-10"},{"$f":"J83+1","v":"2023-12-11"},{"$f":"K83+1","v":"2023-12-12"},{"$f":"L83+1","v":"2023-12-13"},{"$f":"M83+1","v":"2023-12-14"},{"$f":"N83+1","v":"2023-12-15"},{"$f":"O83+1","v":"2023-12-16"},{"$f":"P83+1","v":"2023-12-17"},{"$f":"Q83+1","v":"2023-12-18"},{"$f":"R83+1","v":"2023-12-19"},{"$f":"S83+1","v":"2023-12-20"},{"$f":"T83+1","v":"2023-12-21"},{"$f":"U83+1","v":"2023-12-22"},{"$f":"V83+1","v":"2023-12-23"},{"$f":"W83+1","v":"2023-12-24"},{"$f":"X83+1","v":"2023-12-25"},{"$f":"Y83+1","v":"2023-12-26"},{"$f":"Z83+1","v":"2023-12-27"},{"$f":"AA83+1","v":"2023-12-28"},{"$f":"IF(AB83<>\"\",IF(MONTH(AB83+1)=MONTH(AB83),AB83+1,\"\"),\"\")","v":"2023-12-29"},{"$f":"IF(AC83<>\"\",IF(MONTH(AC83+1)=MONTH(AC83),AC83+1,\"\"),\"\")","v":"2023-12-30"},{"$f":"IF(AD83<>\"\",IF(MONTH(AD83+1)=MONTH(AD83),AD83+1,\"\"),\"\")","v":"2023-12-31"},"Total"]
[null,null,null,null,null,null,null,null,null,null,null,null,null,null,null,null,null,null,null,null,null,null,null,null,null,null,null,null,null,null,null,{"$f":"SUM(A84:AE84)","v":0}]
[]
["Name und Vorname:",null,null,null,null,null,null,null,null,null,null,null,null,null,null,null,null,"Unterschrift:"]
[{"$f":"DATE(YEAR(MonatsDropdown),MONTH(MonatsDropdown),1)","v":"2023-12-01"},{"$f":"A87+1","v":"2023-12-02"},{"$f":"B87+1","v":"2023-12-03"},{"$f":"C87+1","v":"2023-12-04"},{"$f":"D87+1","v":"2023-12-05"},{"$f":"E87+1","v":"2023-12-06"},{"$f":"F87+1","v":"2023-12-07"},{"$f":"G87+1","v":"2023-12-08"},{"$f":"H87+1","v":"2023-12-09"},{"$f":"I87+1","v":"2023-12-10"},{"$f":"J87+1","v":"2023-12-11"},{"$f":"K87+1","v":"2023-12-12"},{"$f":"L87+1","v":"2023-12-13"},{"$f":"M87+1","v":"2023-12-14"},{"$f":"N87+1","v":"2023-12-15"},{"$f":"O87+1","v":"2023-12-16"},{"$f":"P87+1","v":"2023-12-17"},{"$f":"Q87+1","v":"2023-12-18"},{"$f":"R87+1","v":"2023-12-19"},{"$f":"S87+1","v":"2023-12-20"},{"$f":"T87+1","v":"2023-12-21"},{"$f":"U87+1","v":"2023-12-22"},{"$f":"V87+1","v":"2023-12-23"},{"$f":"W87+1","v":"2023-12-24"},{"$f":"X87+1","v":"2023-12-25"},{"$f":"Y87+1","v":"2023-12-26"},{"$f":"Z87+1","v":"2023-12-27"},{"$f":"AA87+1","v":"2023-12-28"},{"$f":"IF(AB87<>\"\",IF(MONTH(AB87+1)=MONTH(AB87),AB87+1,\"\"),\"\")","v":"2023-12-29"},{"$f":"IF(AC87<>\"\",IF(MONTH(AC87+1)=MONTH(AC87),AC87+1,\"\"),\"\")","v":"2023-12-30"},{"$f":"IF(AD87<>\"\",IF(MONTH(AD87+1)=MONTH(AD87),AD87+1,\"\"),\"\")","v":"2023-12-31"},"Total"]
[null,null,null,null,null,null,null,null,null,null,null,null,null,null,null,null,null,null,null,null,null,null,null,null,null,null,null,null,null,null,null,{"$f":"SUM(A88:AE88)","v":0}]
[]
["Name und Vorname:",null,null,null,null,null,null,null,null,null,null,null,null,null,null,null,null,"Unterschrift:"]
[{"$f":"DATE(YEAR(MonatsDropdown),MONTH(MonatsDropdown),1)","v":"2023-12-01"},{"$f":"A91+1","v":"2023-12-02"},{"$f":"B91+1","v":"2023-12-03"},{"$f":"C91+1","v":"2023-12-04"},{"$f":"D91+1","v":"2023-12-05"},{"$f":"E91+1","v":"2023-12-06"},{"$f":"F91+1","v":"2023-12-07"},{"$f":"G91+1","v":"2023-12-08"},{"$f":"H91+1","v":"2023-12-09"},{"$f":"I91+1","v":"2023-12-10"},{"$f":"J91+1","v":"2023-12-11"},{"$f":"K91+1","v":"2023-12-12"},{"$f":"L91+1","v":"2023-12-13"},{"$f":"M91+1","v":"2023-12-14"},{"$f":"N91+1","v":"2023-12-15"},{"$f":"O91+1","v":"2023-12-16"},{"$f":"P91+1","v":"2023-12-17"},{"$f":"Q91+1","v":"2023-12-18"},{"$f":"R91+1","v":"2023-12-19"},{"$f":"S91+1","v":"2023-12-20"},{"$f":"T91+1","v":"2023-12-21"},{"$f":"U91+1","v":"2023-12-22"},{"$f":"V91+1","v":"2023-12-23"},{"$f":"W91+1","v":"2023-12-24"},{"$f":"X91+1","v":"2023-12-25"},{"$f":"Y91+1","v":"2023-12-26"},{"$f":"Z91+1","v":"2023-12-27"},{"$f":"AA91+1","v":"2023-12-28"},{"$f":"IF(AB91<>\"\",IF(MONTH(AB91+1)=MONTH(AB91),AB91+1,\"\"),\"\")","v":"2023-12-29"},{"$f":"IF(AC91<>\"\",IF(MONTH(AC91+1)=MONTH(AC91),AC91+1,\"\"),\"\")","v":"2023-12-30"},{"$f":"IF(AD91<>\"\",IF(MONTH(AD91+1)=MONTH(AD91),AD91+1,\"\"),\"\")","v":"2023-12-31"},"Total"]
[null,null,null,null,null,null,null,null,null,null,null,null,null,null,null,null,null,null,null,null,null,null,null,null,null,null,null,null,null,null,null,{"$f":"SUM(A92:AE92)","v":0}]
[]
["Name und Vorname:",null,null,null,null,null,null,null,null,null,null,null,null,null,null,null,null,"Unterschrift:"]
[{"$f":"DATE(YEAR(MonatsDropdown),MONTH(MonatsDropdown),1)","v":"2023-12-01"},{"$f":"A95+1","v":"2023-12-02"},{"$f":"B95+1","v":"2023-12-03"},{"$f":"C95+1","v":"2023-12-04"},{"$f":"D95+1","v":"2023-12-05"},{"$f":"E95+1","v":"2023-12-06"},{"$f":"F95+1","v":"2023-12-07"},{"$f":"G95+1","v":"2023-12-08"},{"$f":"H95+1","v":"2023-12-09"},{"$f":"I95+1","v":"2023-12-10"},{"$f":"J95+1","v":"2023-12-11"},{"$f":"K95+1","v":"2023-12-12"},{"$f":"L95+1","v":"2023-12-13"},{"$f":"M95+1","v":"2023-12-14"},{"$f":"N95+1","v":"2023-12-15"},{"$f":"O95+1","v":"2023-12-16"},{"$f":"P95+1","v":"2023-12-17"},{"$f":"Q95+1","v":"2023-12-18"},{"$f":"R95+1","v":"2023-12-19"},{"$f":"S95+1","v":"2023-12-20"},{"$f":"T95+1","v":"2023-12-21"},{"$f":"U95+1","v":"2023-12-22"},{"$f":"V95+1","v":"2023-12-23"},{"$f":"W95+1","v":"2023-12-24"},{"$f":"X95+1","v":"2023-12-25"},{"$f":"Y95+1","v":"2023-12-26"},{"$f":"Z95+1","v":"2023-12-27"},{"$f":"AA95+1","v":"2023-12-28"},{"$f":"IF(AB95<>\"\",IF(MONTH(AB95+1)=MONTH(AB95),AB95+1,\"\"),\"\")","v":"2023-12-29"},{"$f":"IF(AC95<>\"\",IF(MONTH(AC95+1)=MONTH(AC95),AC95+1,\"\"),\"\")","v":"2023-12-30"},{"$f":"IF(AD95<>\"\",IF(MONTH(AD95+1)=MONTH(AD95),AD95+1,\"\"),\"\")","v":"2023-12-31"},"Total"]
[null,null,null,null,null,null,null,null,null,null,null,null,null,null,null,null,null,null,null,null,null,null,null,null,null,null,null,null,null,null,null,{"$f":"SUM(A96:AE96)","v":0}]
[]
["Name und Vorname:",null,null,null,null,null,null,null,null,null,null,null,null,null,null,null,null,"Unterschrift:"]
[{"$f":"DATE(YEAR(MonatsDropdown),MONTH(MonatsDropdown),1)","v":"2023-12-01"},{"$f":"A99+1","v":"2023-12-02"},{"$f":"B99+1","v":"2023-12-03"},{"$f":"C99+1","v":"2023-12-04"},{"$f":"D99+1","v":"2023-12-05"},{"$f":"E99+1","v":"2023-12-06"},{"$f":"F99+1","v":"2023-12-07"},{"$f":"G99+1","v":"2023-12-08"},{"$f":"H99+1","v":"2023-12-09"},{"$f":"I99+1","v":"2023-12-10"},{"$f":"J99+1","v":"2023-12-11"},{"$f":"K99+1","v":"2023-12-12"},{"$f":"L99+1","v":"2023-12-13"},{"$f":"M99+1","v":"2023-12-14"},{"$f":"N99+1","v":"2023-12-15"},{"$f":"O99+1","v":"2023-12-16"},{"$f":"P99+1","v":"2023-12-17"},{"$f":"Q99+1","v":"2023-12-18"},{"$f":"R99+1","v":"2023-12-19"},{"$f":"S99+1","v":"2023-12-20"},{"$f":"T99+1","v":"2023-12-21"},{"$f":"U99+1","v":"2023-12-22"},{"$f":"V99+1","v":"2023-12-23"},{"$f":"W99+1","v":"2023-12-24"},{"$f":"X99+1","v":"2023-12-25"},{"$f":"Y99+1","v":"2023-12-26"},{"$f":"Z99+1","v":"2023-12-27"},{"$f":"AA99+1","v":"2023-12-28"},{"$f":"IF(AB99<>\"\",IF(MONTH(AB99+1)=MONTH(AB99),AB99+1,\"\"),\"\")","v":"2023-12-29"},{"$f":"IF(AC99<>\"\",IF(MONTH(AC99+1)=MONTH(AC99),AC99+1,\"\"),\"\")","v":"2023-12-30"},{"$f":"IF(AD99<>\"\",IF(MONTH(AD99+1)=MONTH(AD99),AD99+1,\"\"),\"\")","v":"2023-12-31"},"Total"]
[null,null,null,null,null,null,null,null,null,null,null,null,null,null,null,null,null,null,null,null,null,null,null,null,null,null,null,null,null,null,null,{"$f":"SUM(A100:AE100)","v":0}]
[]
["Name und Vorname:",null,null,null,null,null,null,null,null,null,null,null,null,null,null,null,null,"Unterschrift:"]
[{"$f":"DATE(YEAR(MonatsDropdown),MONTH(MonatsDropdown),1)","v":"2023-12-01"},{"$f":"A103+1","v":"2023-12-02"},{"$f":"B103+1","v":"2023-12-03"},{"$f":"C103+1","v":"2023-12-04"},{"$f":"D103+1","v":"2023-12-05"},{"$f":"E103+1","v":"2023-12-06"},{"$f":"F103+1","v":"2023-12-07"},{"$f":"G103+1","v":"2023-12-08"},{"$f":"H103+1","v":"2023-12-09"},{"$f":"I103+1","v":"2023-12-10"},{"$f":"J103+1","v":"2023-12-11"},{"$f":"K103+1","v":"2023-12-12"},{"$f":"L103+1","v":"2023-12-13"},{"$f":"M103+1","v":"2023-12-14"},{"$f":"N103+1","v":"2023-12-15"},{"$f":"O103+1","v":"2023-12-16"},{"$f":"P103+1","v":"2023-12-17"},{"$f":"Q103+1","v":"2023-12-18"},{"$f":"R103+1","v":"2023-12-19"},{"$f":"S103+1","v":"2023-12-20"},{"$f":"T103+1","v":"2023-12-21"},{"$f":"U103+1","v":"2023-12-22"},{"$f":"V103+1","v":"2023-12-23"},{"$f":"W103+1","v":"2023-12-24"},{"$f":"X103+1","v":"2023-12-25"},{"$f":"Y103+1","v":"2023-12-26"},{"$f":"Z103+1","v":"2023-12-27"},{"$f":"AA103+1","v":"2023-12-28"},{"$f":"IF(AB103<>\"\",IF(MONTH(AB103+1)=MONTH(AB103),AB103+1,\"\"),\"\")","v":"2023-12-29"},{"$f":"IF(AC103<>\"\",IF(MONTH(AC103+1)=MONTH(AC103),AC103+1,\"\"),\"\")","v":"2023-12-30"},{"$f":"IF(AD103<>\"\",IF(MONTH(AD103+1)=MONTH(AD103),AD103+1,\"\"),\"\")","v":"2023-12-31"},"Total"]
[null,null,null,null,null,null,null,null,null,null,null,null,null,null,null,null,null,null,null,null,null,null,null,null,null,null,null,null,null,null,null,{"$f":"SUM(A104:AE104)","v":0}]
[]
["Name und Vorname:",null,null,null,null,null,null,null,null,null,null,null,null,null,null,null,null,"Unterschrift:"]
[{"$f":"DATE(YEAR(MonatsDropdown),MONTH(MonatsDropdown),1)","v":"2023-12-01"},{"$f":"A107+1","v":"2023-12-02"},{"$f":"B107+1","v":"2023-12-03"},{"$f":"C107+1","v":"2023-12-04"},{"$f":"D107+1","v":"2023-12-05"},{"$f":"E107+1","v":"2023-12-06"},{"$f":"F107+1","v":"2023-12-07"},{"$f":"G107+1","v":"2023-12-08"},{"$f":"H107+1","v":"2023-12-09"},{"$f":"I107+1","v":"2023-12-10"},{"$f":"J107+1","v":"2023-12-11"},{"$f":"K107+1","v":"2023-12-12"},{"$f":"L107+1","v":"2023-12-13"},{"$f":"M107+1","v":"2023-12-14"},{"$f":"N107+1","v":"2023-12-15"},{"$f":"O107+1","v":"2023-12-16"},{"$f":"P107+1","v":"2023-12-17"},{"$f":"Q107+1","v":"2023-12-18"},{"$f":"R107+1","v":"2023-12-19"},{"$f":"S107+1","v":"2023-12-20"},{"$f":"T107+1","v":"2023-12-21"},{"$f":"U107+1","v":"2023-12-22"},{"$f":"V107+1","v":"2023-12-23"},{"$f":"W107+1","v":"2023-12-24"},{"$f":"X107+1","v":"2023-12-25"},{"$f":"Y107+1","v":"2023-12-26"},{"$f":"Z107+1","v":"2023-12-27"},{"$f":"AA107+1","v":"2023-12-28"},{"$f":"IF(AB107<>\"\",IF(MONTH(AB107+1)=MONTH(AB107),AB107+1,\"\"),\"\")","v":"2023-12-29"},{"$f":"IF(AC107<>\"\",IF(MONTH(AC107+1)=MONTH(AC107),AC107+1,\"\"),\"\")","v":"2023-12-30"},{"$f":"IF(AD107<>\"\",IF(MONTH(AD107+1)=MONTH(AD107),AD107+1,\"\"),\"\")","v":"2023-12-31"},"Total"]
[null,null,null,null,null,null,null,null,null,null,null,null,null,null,null,null,null,null,null,null,null,null,null,null,null,null,null,null,null,null,null,{"$f":"SUM(A108:AE108)","v":0}]
[]
["Name und Vorname:",null,null,null,null,null,null,null,null,null,null,null,null,null,null,null,null,"Unterschrift:"]
[{"$f":"DATE(YEAR(MonatsDropdown),MONTH(MonatsDropdown),1)","v":"2023-12-01"},{"$f":"A111+1","v":"2023-12-02"},{"$f":"B111+1","v":"2023-12-03"},{"$f":"C111+1","v":"2023-12-04"},{"$f":"D111+1","v":"2023-12-05"},{"$f":"E111+1","v":"2023-12-06"},{"$f":"F111+1","v":"2023-12-07"},{"$f":"G111+1","v":"2023-12-08"},{"$f":"H111+1","v":"2023-12-09"},{"$f":"I111+1","v":"2023-12-10"},{"$f":"J111+1","v":"2023-12-11"},{"$f":"K111+1","v":"2023-12-12"},{"$f":"L111+1","v":"2023-12-13"},{"$f":"M111+1","v":"2023-12-14"},{"$f":"N111+1","v":"2023-12-15"},{"$f":"O111+1","v":"2023-12-16"},{"$f":"P111+1","v":"2023-12-17"},{"$f":"Q111+1","v":"2023-12-18"},{"$f":"R111+1","v":"2023-12-19"},{"$f":"S111+1","v":"2023-12-20"},{"$f":"T111+1","v":"2023-12-21"},{"$f":"U111+1","v":"2023-12-22"},{"$f":"V111+1","v":"2023-12-23"},{"$f":"W111+1","v":"2023-12-24"},{"$f":"X111+1","v":"2023-12-25"},{"$f":"Y111+1","v":"2023-12-26"},{"$f":"Z111+1","v":"2023-12-27"},{"$f":"AA111+1","v":"2023-12-28"},{"$f":"IF(AB111<>\"\",IF(MONTH(AB111+1)=MONTH(AB111),AB111+1,\"\"),\"\")","v":"2023-12-29"},{"$f":"IF(AC111<>\"\",IF(MONTH(AC111+1)=MONTH(AC111),AC111+1,\"\"),\"\")","v":"2023-12-30"},{"$f":"IF(AD111<>\"\",IF(MONTH(AD111+1)=MONTH(AD111),AD111+1,\"\"),\"\")","v":"2023-12-31"},"Total"]
[null,null,null,null,null,null,null,null,null,null,null,null,null,null,null,null,null,null,null,null,null,null,null,null,null,null,null,null,null,null,null,{"$f":"SUM(A112:AE112)","v":0}]
[]
["Name und Vorname:",null,null,null,null,null,null,null,null,null,null,null,null,null,null,null,null,"Unterschrift:"]
[{"$f":"DATE(YEAR(MonatsDropdown),MONTH(MonatsDropdown),1)","v":"2023-12-01"},{"$f":"A115+1","v":"2023-12-02"},{"$f":"B115+1","v":"2023-12-03"},{"$f":"C115+1","v":"2023-12-04"},{"$f":"D115+1","v":"2023-12-05"},{"$f":"E115+1","v":"2023-12-06"},{"$f":"F115+1","v":"2023-12-07"},{"$f":"G115+1","v":"2023-12-08"},{"$f":"H115+1","v":"2023-12-09"},{"$f":"I115+1","v":"2023-12-10"},{"$f":"J115+1","v":"2023-12-11"},{"$f":"K115+1","v":"2023-12-12"},{"$f":"L115+1","v":"2023-12-13"},{"$f":"M115+1","v":"2023-12-14"},{"$f":"N115+1","v":"2023-12-15"},{"$f":"O115+1","v":"2023-12-16"},{"$f":"P115+1","v":"2023-12-17"},{"$f":"Q115+1","v":"2023-12-18"},{"$f":"R115+1","v":"2023-12-19"},{"$f":"S115+1","v":"2023-12-20"},{"$f":"T115+1","v":"2023-12-21"},{"$f":"U115+1","v":"2023-12-22"},{"$f":"V115+1","v":"2023-12-23"},{"$f":"W115+1","v":"2023-12-24"},{"$f":"X115+1","v":"2023-12-25"},{"$f":"Y115+1","v":"2023-12-26"},{"$f":"Z115+1","v":"2023-12-27"},{"$f":"AA115+1","v":"2023-12-28"},{"$f":"IF(AB115<>\"\",IF(MONTH(AB115+1)=MONTH(AB115),AB115+1,\"\"),\"\")","v":"2023-12-29"},{"$f":"IF(AC115<>\"\",IF(MONTH(AC115+1)=MONTH(AC115),AC115+1,\"\"),\"\")","v":"2023-12-30"},{"$f":"IF(AD115<>\"\",IF(MONTH(AD115+1)=MONTH(AD115),AD115+1,\"\"),\"\")","v":"2023-12-31"},"Total"]
[null,null,null,null,null,null,null,null,null,null,null,null,null,null,null,null,null,null,null,null,null,null,null,null,null,null,null,null,null,null,null,{"$f":"SUM(A116:AE116)","v":0}]

{"sheet":"Hilfs1","index":2,"n_rows":9,"n_cols":5,"rows_kept":9,"cut":false,"hidden":true,"merged":[]}
[]
[]
[]
[]
[]
[null,"Abrechnungsperioden",{"$f":"TEXT(ErsterMonat(),\"MMMM JJJJ\")","v":"Dezember 2023"},null,"  1 - 9"]
[null,null,{"$f":"TEXT(DATE(YEAR(C6), MONTH(C6)+1, 1),\"MMMM JJJJ\")","v":"Januar 2024"},null,"10 - 18"]
[null,null,{"$f":"TEXT(DATE(YEAR(C7), MONTH(C7)+1, 1),\"MMMM JJJJ\")","v":"Februar 2024"},null,"19 - 27"]
[null,null,{"$f":"TEXT(DATE(YEAR(C8), MONTH(C8)+1, 1),\"MMMM JJJJ\")","v":"März 2024"}]

{"sheet":"Hilfs2","index":3,"n_rows":8,"n_cols":31,"rows_kept":8,"cut":false,"hidden":true,"merged":[]}
[{"$f":"Stammdaten!A13 & \" VM\"","v":"0 VM"},{"$f":"Stammdaten!B13 & \" VM\"","v":" VM"},{"$f":"Stammdaten!C13 & \" VM\"","v":" VM"},{"$f":"Stammdaten!D13 & \" VM\"","v":"0 VM"},{"$f":"Stammdaten!E13 & \" VM\"","v":"0 VM"},{"$f":"Stammdaten!F13 & \" VM\"","v":"0 VM"},{"$f":"Stammdaten!G13 & \" VM\"","v":"0 VM"},{"$f":"Stammdaten!H13 & \" VM\"","v":"0 VM"},{"$f":"Stammdaten!I13 & \" VM\"","v":" VM"},{"$f":"Stammdaten!J13 & \" VM\"","v":" VM"},{"$f":"Stammdaten!K13 & \" VM\"","v":"0 VM"},{"$f":"Stammdaten!L13 & \" VM\"","v":"0 VM"},{"$f":"Stammdaten!M13 & \" VM\"","v":"0 VM"},{"$f":"Stammdaten!N13 & \" VM\"","v":"0 VM"},{"$f":"Stammdaten!O13 & \" VM\"","v":"0 VM"},{"$f":"Stammdaten!A20 & \" VM\"","v":" VM"},{"$f":"Stammdaten!B20 & \" VM\"","v":" VM"},{"$f":"Stammdaten!C20 & \" VM\"","v":"0 VM"},{"$f":"Stammdaten!D20 & \" VM\"","v":"0 VM"},{"$f":"Stammdaten!E20 & \" VM\"","v":"0 VM"},{"$f":"Stammdaten!F20 & \" VM\"","v":"0 VM"},{"$f":"Stammdaten!G20 & \" VM\"","v":"0 VM"},{"$f":"Stammdaten!H20 & \" VM\"","v":" VM"},{"$f":"Stammdaten!I20 & \" VM\"","v":" VM"},{"$f":"Stammdaten!J20 & \" VM\"","v":"0 VM"},{"$f":"Stammdaten!K20 & \" VM\"","v":"0 VM"},{"$f":"Stammdaten!L20 & \" VM\"","v":"0 VM"},{"$f":"Stammdaten!M20 & \" VM\"","v":"0 VM"},{"$f":"Stammdaten!N20 & \" VM\"","v":"0 VM"},{"$f":"Stammdaten!O20 & \" VM\"","v":" VM"},{"$f":"Stammdaten!P20 & \" VM\"","v":" VM"}]
[{"$f":"Stammdaten!A14 & \" NM\"","v":"0 NM"},{"$f":"Stammdaten!B14 & \" NM\"","v":" NM"},{"$f":"Stammdaten!C14 & \" NM\"","v":" NM"},{"$f":"Stammdaten!D14 & \" NM\"","v":"0 NM"},{"$f":"Stammdaten!E14 & \" NM\"","v":"0 NM"},{"$f":"Stammdaten!F14 & \" NM\"","v":"0 NM"},{"$f":"Stammdaten!G14 & \" NM\"","v":"0 NM"},{"$f":"Stammdaten!H14 & \" NM\"","v":"0 NM"},{"$f":"Stammdaten!I14 & \" NM\"","v":" NM"},{"$f":"Stammdaten!J14 & \" NM\"","v":" NM"},{"$f":"Stammdaten!K14 & \" NM\"","v":"0 NM"},{"$f":"Stammdaten!L14 & \" NM\"","v":"0 NM"},{"$f":"Stammdaten!M14 & \" NM\"","v":"0 NM"},{"$f":"Stammdaten!N14 & \" NM\"","v":"0 NM"},{"$f":"Stammdaten!O14 & \" NM\"","v":"0 NM"},{"$f":"Stammdaten!A21 & \" NM\"","v":" NM"},{"$f":"Stammdaten!B21 & \" NM\"","v":" NM"},{"$f":"Stammdaten!C21 & \" NM\"","v":"0 NM"},{"$f":"Stammdaten!D21 & \" NM\"","v":"0 NM"},{"$f":"Stammdaten!E21 & \" NM\"","v":"0 NM"},{"$f":"Stammdaten!F21 & \" NM\"","v":"0 NM"},{"$f":"Stammdaten!G21 & \" NM\"","v":"0 NM"},{"$f":"Stammdaten!H21 & \" NM\"","v":" NM"},{"$f":"Stammdaten!I21 & \" NM\"","v":" NM"},{"$f":"Stammdaten!J21 & \" NM\"","v":"0 NM"},{"$f":"Stammdaten!K21 & \" NM\"","v":"0 NM"},{"$f":"Stammdaten!L21 & \" NM\"","v":"0 NM"},{"$f":"Stammdaten!M21 & \" NM\"","v":"0 NM"},{"$f":"Stammdaten!N21 & \" NM\"","v":"0 NM"},{"$f":"Stammdaten!O21 & \" NM\"","v":" NM"},{"$f":"Stammdaten!P21 & \" NM\"","v":" NM"}]
[{"$f":"Stammdaten!A15 & \" GT\"","v":"0 GT"},{"$f":"Stammdaten!B15 & \" GT\"","v":"0 GT"},{"$f":"Stammdaten!C15 & \" GT\"","v":"0 GT"},{"$f":"Stammdaten!D15 & \" GT\"","v":"0 GT"},{"$f":"Stammdaten!E15 & \" GT\"","v":"0 GT"},{"$f":"Stammdaten!F15 & \" GT\"","v":"0 GT"},{"$f":"Stammdaten!G15 & \" GT\"","v":"0 GT"},{"$f":"Stammdaten!H15 & \" GT\"","v":"0 GT"},{"$f":"Stammdaten!I15 & \" GT\"","v":"0 GT"},{"$f":"Stammdaten!J15 & \" GT\"","v":"0 GT"},{"$f":"Stammdaten!K15 & \" GT\"","v":"0 GT"},{"$f":"Stammdaten!L15 & \" GT\"","v":"0 GT"},{"$f":"Stammdaten!M15 & \" GT\"","v":"0 GT"},{"$f":"Stammdaten!N15 & \" GT\"","v":"0 GT"},{"$f":"Stammdaten!O15 & \" GT\"","v":"0 GT"},{"$f":"Stammdaten!A22 & \" GT\"","v":"0 GT"},{"$f":"Stammdaten!B22 & \" GT\"","v":"0 GT"},{"$f":"Stammdaten!C22 & \" GT\"","v":"0 GT"},{"$f":"Stammdaten!D22 & \" GT\"","v":"0 GT"},{"$f":"Stammdaten!E22 & \" GT\"","v":"0 GT"},{"$f":"Stammdaten!F22 & \" GT\"","v":"0 GT"},{"$f":"Stammdaten!G22 & \" GT\"","v":"0 GT"},{"$f":"Stammdaten!H22 & \" GT\"","v":"0 GT"},{"$f":"Stammdaten!I22 & \" GT\"","v":"0 GT"},{"$f":"Stammdaten!J22 & \" GT\"","v":"0 GT"},{"$f":"Stammdaten!K22 & \" GT\"","v":"0 GT"},{"$f":"Stammdaten!L22 & \" GT\"","v":"0 GT"},{"$f":"Stammdaten!M22 & \" GT\"","v":"0 GT"},{"$f":"Stammdaten!N22 & \" GT\"","v":" GT"},{"$f":"Stammdaten!O22 & \" GT\"","v":" GT"},{"$f":"Stammdaten!P22 & \" GT\"","v":" GT"}]
[0,0,0,0,0,0,0,0,0,0,0,0,0,0,0,0,0,0,0,0,0,0,0,0,0,0,0,0,0,0,0]
[{"$f":"Stammdaten!A12","v":"2023-12-01"},{"$f":"Stammdaten!B12","v":"2023-12-02"},{"$f":"Stammdaten!C12","v":"2023-12-03"},{"$f":"Stammdaten!D12","v":"2023-12-04"},{"$f":"Stammdaten!E12","v":"2023-12-05"},{"$f":"Stammdaten!F12","v":"2023-12-06"},{"$f":"Stammdaten!G12","v":"2023-12-07"},{"$f":"Stammdaten!H12","v":"2023-12-08"},{"$f":"Stammdaten!I12","v":"2023-12-09"},{"$f":"Stammdaten!J12","v":"2023-12-10"},{"$f":"Stammdaten!K12","v":"2023-12-11"},{"$f":"Stammdaten!L12","v":"2023-12-12"},{"$f":"Stammdaten!M12","v":"2023-12-13"},{"$f":"Stammdaten!N12","v":"2023-12-14"},{"$f":"Stammdaten!O12","v":"2023-12-15"},{"$f":"Stammdaten!A19","v":"2023-12-16"},{"$f":"Stammdaten!B19","v":"2023-12-17"},{"$f":"Stammdaten!C19","v":"2023-12-18"},{"$f":"Stammdaten!D19","v":"2023-12-19"},{"$f":"Stammdaten!E19","v":"2023-12-20"},{"$f":"Stammdaten!F19","v":"2023-12-21"},{"$f":"Stammdaten!G19","v":"2023-12-22"},{"$f":"Stammdaten!H19","v":"2023-12-23"},{"$f":"Stammdaten!I19","v":"2023-12-24"},{"$f":"Stammdaten!J19","v":"2023-12-25"},{"$f":"Stammdaten!K19","v":"2023-12-26"},{"$f":"Stammdaten!L19","v":"2023-12-27"},{"$f":"Stammdaten!M19","v":"2023-12-28"},{"$f":"Stammdaten!N19","v":"2023-12-29"},{"$f":"Stammdaten!O19","v":"2023-12-30"},{"$f":"Stammdaten!P19","v":"2023-12-31"}]
[{"$f":"verif(Stammdaten!A13,A5)","v":0},{"$f":"verif(Stammdaten!B13,B5)","v":""},{"$f":"verif(Stammdaten!C13,C5)","v":""},{"$f":"verif(Stammdaten!D13,D5)","v":0},{"$f":"verif(Stammdaten!E13,E5)","v":0},{"$f":"verif(Stammdaten!F13,F5)","v":0},{"$f":"verif(Stammdaten!G13,G5)","v":0},{"$f":"verif(Stammdaten!H13,H5)","v":0},{"$f":"verif(Stammdaten!I13,I5)","v":""},{"$f":"verif(Stammdaten!J13,J5)","v":""},{"$f":"verif(Stammdaten!K13,K5)","v":0},{"$f":"verif(Stammdaten!L13,L5)","v":0},{"$f":"verif(Stammdaten!M13,M5)","v":0},{"$f":"verif(Stammdaten!N13,N5)","v":0},{"$f":"verif(Stammdaten!O13,O5)","v":0},{"$f":"verif(Stammdaten!A20,P5)","v":""},{"$f":"verif(Stammdaten!B20,Q5)","v":""},{"$f":"verif(Stammdaten!C20,R5)","v":0},{"$f":"verif(Stammdaten!D20,S5)","v":0},{"$f":"verif(Stammdaten!E20,T5)","v":0},{"$f":"verif(Stammdaten!F20,U5)","v":0},{"$f":"verif(Stammdaten!G20,V5)","v":0},{"$f":"verif(Stammdaten!H20,W5)","v":""},{"$f":"verif(Stammdaten!I20,X5)","v":0},{"$f":"verif(Stammdaten!J20,Y5)","v":0},{"$f":"verif(Stammdaten!K20,Z5)","v":0},{"$f":"verif(Stammdaten!L20,AA5)","v":0},{"$f":"verif(Stammdaten!M20,AB5)","v":0},{"$f":"verif(Stammdaten!N20,AC5)","v":0},{"$f":"verif(Stammdaten!O20,AD5)","v":0},{"$f":"verif(Stammdaten!P20,AE5)","v":0}]
[{"$f":"verif(Stammdaten!A14,A5)","v":0},{"$f":"verif(Stammdaten!B14,B5)","v":""},{"$f":"verif(Stammdaten!C14,C5)","v":""},{"$f":"verif(Stammdaten!D14,D5)","v":0},{"$f":"verif(Stammdaten!E14,E5)","v":0},{"$f":"verif(Stammdaten!F14,F5)","v":0},{"$f":"verif(Stammdaten!G14,G5)","v":0},{"$f":"verif(Stammdaten!H14,H5)","v":0},{"$f":"verif(Stammdaten!I14,I5)","v":""},{"$f":"verif(Stammdaten!J14,J5)","v":""},{"$f":"verif(Stammdaten!K14,K5)","v":0},{"$f":"verif(Stammdaten!L14,L5)","v":0},{"$f":"verif(Stammdaten!M14,M5)","v":0},{"$f":"verif(Stammdaten!N14,N5)","v":0},{"$f":"verif(Stammdaten!O14,O5)","v":0},{"$f":"verif(Stammdaten!A21,P5)","v":""},{"$f":"verif(Stammdaten!B21,Q5)","v":""},{"$f":"verif(Stammdaten!C21,R5)","v":0},{"$f":"verif(Stammdaten!D21,S5)","v":0},{"$f":"verif(Stammdaten!E21,T5)","v":0},{"$f":"verif(Stammdaten!F21,U5)","v":0},{"$f":"verif(Stammdaten!G21,V5)","v":0},{"$f":"verif(Stammdaten!H21,W5)","v":""},{"$f":"verif(Stammdaten!I21,X5)","v":0},{"$f":"verif(Stammdaten!J21,Y5)","v":0},{"$f":"verif(Stammdaten!K21,Z5)","v":0},{"$f":"verif(Stammdaten!L21,AA5)","v":0},{"$f":"verif(Stammdaten!M21,AB5)","v":0},{"$f":"verif(Stammdaten!N21,AC5)","v":0},{"$f":"verif(Stammdaten!O21,AD5)","v":0},{"$f":"verif(Stammdaten!P21,AE5)","v":0}]
[{"$f":"verif(Stammdaten!A15,A5)","v":0},{"$f":"verif(Stammdaten!B15,B5)","v":0},{"$f":"verif(Stammdaten!C15,C5)","v":0},{"$f":"verif(Stammdaten!D15,D5)","v":0},{"$f":"verif(Stammdaten!E15,E5)","v":0},{"$f":"verif(Stammdaten!F15,F5)","v":0},{"$f":"verif(Stammdaten!G15,G5)","v":0},{"$f":"verif(Stammdaten!H15,H5)","v":0},{"$f":"verif(Stammdaten!I15,I5)","v":0},{"$f":"verif(Stammdaten!J15,J5)","v":0},{"$f":"verif(Stammdaten!K15,K5)","v":0},{"$f":"verif(Stammdaten!L15,L5)","v":0},{"$f":"verif(Stammdaten!M15,M5)","v":0},{"$f":"verif(Stammdaten!N15,N5)","v":0},{"$f":"verif(Stammdaten!O15,O5)","v":0},{"$f":"verif(Stammdaten!A22,P5)","v":0},{"$f":"verif(Stammdaten!B22,Q5)","v":0},{"$f":"verif(Stammdaten!C22,R5)","v":0},{"$f":"verif(Stammdaten!D22,S5)","v":0},{"$f":"verif(Stammdaten!E22,T5)","v":0},{"$f":"verif(Stammdaten!F22,U5)","v":0},{"$f":"verif(Stammdaten!G22,V5)","v":0},{"$f":"verif(Stammdaten!H22,W5)","v":0},{"$f":"verif(Stammdaten!I22,X5)","v":0},{"$f":"verif(Stammdaten!J22,Y5)","v":0},{"$f":"verif(Stammdaten!K22,Z5)","v":0},{"$f":"verif(Stammdaten!L22,AA5)","v":0},{"$f":"verif(Stammdaten!M22,AB5)","v":0},{"$f":"verif(Stammdaten!N22,AC5)","v":0},{"$f":"verif(Stammdaten!O22,AD5)","v":0},{"$f":"verif(Stammdaten!P22,AE5)","v":0}]